BEGIN:VCALENDAR
VERSION:2.0
PRODID:TU Chemnitz
METHOD:PUBLISH
X-WR-CALNAME:Veranstaltungen der TU Chemnitz
X-WR-TIMEZONE:Europe/Berlin
BEGIN:VEVENT
CLASS:PUBLIC
DTSTART;TZID="Europe/Berlin":20011104T110000
DTEND;TZID="Europe/Berlin":20011104T150000
LOCATION:Hotel Günnewig Chemnitzer Hof
SUMMARY:Mauricio Kagel MusikTheaterFilm (TU Chemnitz)
DESCRIPTION:Die Welt sämtlich aufspürend  und komplex wahrnehmend gestaltet Mauricio Kagel in seinen künstlerischen Produkten Wirklichkeit in immer wieder überraschender\, unkonventioneller Sicht.\n<a href="http://www.guennewig.de">Hotel Günnewig Chemnitzer Hof</a>\nguenter.peters@phil.tu-chemnitz.de
ORGANIZER:MAILTO:keka@hrz.tu-chemnitz.de
UID:1878@www.tu-chemnitz.de
CREATED:20011022T142000Z
DTSTAMP:20210802T202647Z
END:VEVENT
END:VCALENDAR
