BEGIN:VCALENDAR
VERSION:2.0
PRODID:TU Chemnitz
METHOD:PUBLISH
X-WR-CALNAME:Veranstaltungen der TU Chemnitz
X-WR-TIMEZONE:Europe/Berlin
BEGIN:VEVENT
CLASS:PUBLIC
DTSTART;TZID="Europe/Berlin":20170518T160000
DTEND;TZID="Europe/Berlin":20170518T173000
LOCATION:Reichenhainer Str. 70\, Chemnitz (Rühlmann-Bau)
SUMMARY:Chemnitzer Mathematisches Colloquium (Fakultät für Mathematik\, Professur Inverse Probleme)
DESCRIPTION:Dr. Jens Flemming\, TU Chemnitz\nHerr Dr. Flemming beabsichtigt\, die Eröffnung eines Habilitationsverfahrens zu beantragen.
ORGANIZER:MAILTO:margit.matt@mathematik.tu-chemnitz.de
UID:18771@www.tu-chemnitz.de
CREATED:20170420T152100Z
DTSTAMP:20210802T185010Z
END:VEVENT
END:VCALENDAR
