BEGIN:VCALENDAR
VERSION:2.0
PRODID:TU Chemnitz
METHOD:PUBLISH
X-WR-CALNAME:Veranstaltungen der TU Chemnitz
X-WR-TIMEZONE:Europe/Berlin
BEGIN:VEVENT
CLASS:PUBLIC
DTSTART;TZID="Europe/Berlin":20170714T091500
DTEND;TZID="Europe/Berlin":20170714T104500
LOCATION:Str. der Nationen 62\, Chemnitz (Böttcher-Bau)
SUMMARY:Literaturverwaltung mit Zotero (TU Chemnitz\, Lern | RAUM - TU4U)
DESCRIPTION:Rechercheergebnisse und Websites einstellen und bearbeiten sowie punktgenaue Zitierungen generieren. In Zusammenarbeit mit der Universitätsbibliothek.\nDagmar Hesse\nAnmeldung unter: https://www.tu-chemnitz.de/qpl/tu4u/studierende/lernraum/index.html#events
ORGANIZER:MAILTO:jeanette.hilger@verwaltung.tu-chemnitz.de
UID:18765@www.tu-chemnitz.de
CREATED:20170418T133300Z
DTSTAMP:20210802T185318Z
END:VEVENT
END:VCALENDAR
