BEGIN:VCALENDAR
VERSION:2.0
PRODID:TU Chemnitz
METHOD:PUBLISH
X-WR-CALNAME:Veranstaltungen der TU Chemnitz
X-WR-TIMEZONE:Europe/Berlin
BEGIN:VEVENT
CLASS:PUBLIC
DTSTART;TZID="Europe/Berlin":20170616T091500
DTEND;TZID="Europe/Berlin":20170616T104500
LOCATION:Str. der Nationen 62\, Chemnitz (Böttcher-Bau)
SUMMARY:Prepare for and take oral exams (TU Chemnitz\, Lern | RAUM - TU4U)
DESCRIPTION:Get to know strategies of preparation for and taking oral examinations. Learn how to manage a huge amount of material\, how to stay calm and confident.\nUlrike Bergmann\nAnmeldung unter: https://www.tu-chemnitz.de/qpl/tu4u/studierende/lernraum/index.html#events
ORGANIZER:MAILTO:jeanette.hilger@verwaltung.tu-chemnitz.de
UID:18761@www.tu-chemnitz.de
CREATED:20170418T130500Z
DTSTAMP:20210802T185146Z
END:VEVENT
END:VCALENDAR
