BEGIN:VCALENDAR
VERSION:2.0
PRODID:TU Chemnitz
METHOD:PUBLISH
X-WR-CALNAME:Veranstaltungen der TU Chemnitz
X-WR-TIMEZONE:Europe/Berlin
BEGIN:VEVENT
CLASS:PUBLIC
DTSTART;TZID="Europe/Berlin":20170609T090000
DTEND;TZID="Europe/Berlin":20170609T120000
LOCATION:Reichenhainer Str. 90\, Chemnitz (Zentr. Hörsaal- und Seminargebäude)
SUMMARY:Prüfungsangst effektiv bekämpfen (TU Chemnitz\, Lern | RAUM - TU4U)
DESCRIPTION:Hintergrundwissen und nützliche Tipps zum Umgang mit Prüfungsangst kennen und die eigene Angst lindern.\nNatalie Pohle\nAnmeldung unter: https://www.tu-chemnitz.de/qpl/tu4u/studierende/lernraum/index.html#events
ORGANIZER:MAILTO:jeanette.hilger@verwaltung.tu-chemnitz.de
UID:18759@www.tu-chemnitz.de
CREATED:20170418T124100Z
DTSTAMP:20210802T185134Z
END:VEVENT
END:VCALENDAR
