BEGIN:VCALENDAR
VERSION:2.0
PRODID:TU Chemnitz
METHOD:PUBLISH
X-WR-CALNAME:Veranstaltungen der TU Chemnitz
X-WR-TIMEZONE:Europe/Berlin
BEGIN:VEVENT
CLASS:PUBLIC
DTSTART;TZID="Europe/Berlin":20170602T091500
DTEND;TZID="Europe/Berlin":20170602T123000
LOCATION:Reichenhainer Str. 70\, Chemnitz (Rühlmann-Bau)
SUMMARY:Wissenschaftliches Schreiben  (TU Chemnitz\, Lern | RAUM - TU4U)
DESCRIPTION:Grundlegende Ansprüche an Wissenschaftssprache kennen\, den eigenen Stil verbessern und den Schreibprozess optimieren (gerne auch von den Teilnehmern selbst mitgebrachten Texten).\nDr. Sara Rodefeld\nAnmeldung unter: https://www.tu-chemnitz.de/qpl/tu4u/studierende/lernraum/index.html#events
ORGANIZER:MAILTO:jeanette.hilger@verwaltung.tu-chemnitz.de
UID:18756@www.tu-chemnitz.de
CREATED:20170418T122500Z
DTSTAMP:20210802T185148Z
END:VEVENT
END:VCALENDAR
