BEGIN:VCALENDAR
VERSION:2.0
PRODID:TU Chemnitz
METHOD:PUBLISH
X-WR-CALNAME:Veranstaltungen der TU Chemnitz
X-WR-TIMEZONE:Europe/Berlin
BEGIN:VEVENT
CLASS:PUBLIC
DTSTART;TZID="Europe/Berlin":20170512T091500
DTEND;TZID="Europe/Berlin":20170512T123000
LOCATION:Str. der Nationen 62\, Chemnitz (Böttcher-Bau)
SUMMARY:Gesprächsführung (TU Chemnitz\, Lern | RAUM - TU4U)
DESCRIPTION:Zuhören\, verstehen und eigene Anliegen professionell vorbringen können - Wir lernen die Techniken und Tricks zur effektiven Gesprächsführung kennen.\nUlrike Bergmann\nAnmeldung unter: https://www.tu-chemnitz.de/qpl/tu4u/studierende/lernraum/index.html#events
ORGANIZER:MAILTO:jeanette.hilger@verwaltung.tu-chemnitz.de
UID:18750@www.tu-chemnitz.de
CREATED:20170418T114800Z
DTSTAMP:20210802T185011Z
END:VEVENT
END:VCALENDAR
