BEGIN:VCALENDAR
VERSION:2.0
PRODID:TU Chemnitz
METHOD:PUBLISH
X-WR-CALNAME:Veranstaltungen der TU Chemnitz
X-WR-TIMEZONE:Europe/Berlin
BEGIN:VEVENT
CLASS:PUBLIC
DTSTART;TZID="Europe/Berlin":20170509T171500
DTEND;TZID="Europe/Berlin":20170509T184500
LOCATION:Reichenhainer Str. 90\, Chemnitz (Zentr. Hörsaal- und Seminargebäude)
SUMMARY:Die Gedanken der Anderen: Zitation und Quellenarbeit (TU Chemnitz\, Lern | RAUM - TU4U)
DESCRIPTION:Ziel ist es\, den Umgang mit wissenschaftlicher Literatur zu erlernen\, Zitationsformen zu kennen und anzuwenden (gerne auch anhand eigener Schreibprojekte).\nDr. Sara Rodefeld\nAnmeldung unter: https://www.tu-chemnitz.de/qpl/tu4u/studierende/lernraum/index.html#events
ORGANIZER:MAILTO:jeanette.hilger@verwaltung.tu-chemnitz.de
UID:18748@www.tu-chemnitz.de
CREATED:20170418T113600Z
DTSTAMP:20210802T185013Z
END:VEVENT
END:VCALENDAR
