BEGIN:VCALENDAR
VERSION:2.0
PRODID:TU Chemnitz
METHOD:PUBLISH
X-WR-CALNAME:Veranstaltungen der TU Chemnitz
X-WR-TIMEZONE:Europe/Berlin
BEGIN:VEVENT
CLASS:PUBLIC
DTSTART;TZID="Europe/Berlin":20170608T090000
DTEND;TZID="Europe/Berlin":20170608T170000
LOCATION:Str. der Nationen 62\, Chemnitz (Böttcher-Bau)
SUMMARY:Scientific Publishing (Zentrum für den wissenschaftlichen Nachwuchs)
DESCRIPTION:The workshop covers the basics of scientific writing and publishing. Writing a successful research paper requires basic knowhow\, content knowledge\, writing proficiency\, strong research skills\, creativity\, organizational ability\, patience\, and confidence.\nDr. Anne Hamker\nAnmeldung via https://www.tu-chemnitz.de/zfwn/weiterbildungsprogramm/index.php
ORGANIZER:MAILTO:nadine.mueller@zfwn.tu-chemnitz.de
UID:18746@www.tu-chemnitz.de
CREATED:20170413T113400Z
DTSTAMP:20210802T185141Z
END:VEVENT
END:VCALENDAR
