BEGIN:VCALENDAR
VERSION:2.0
PRODID:TU Chemnitz
METHOD:PUBLISH
X-WR-CALNAME:Veranstaltungen der TU Chemnitz
X-WR-TIMEZONE:Europe/Berlin
BEGIN:VEVENT
CLASS:PUBLIC
DTSTART;TZID="Europe/Berlin":20170429T150000
DTEND;TZID="Europe/Berlin":20170429T200000
LOCATION:Odradek\, Leipziger Straße 3
SUMMARY:Workshop "fair tragen" und Kleidertauschparty (Fakultät für Maschinenbau\, Textile Technologien)
DESCRIPTION:Eine echte Designerin bietet uns Einblicke in die Modeindustrie\, die Arbeitsbedigungen und Auswirkungen auf die Umwelt. Der Workshop geht ab 18 Uhr in eine Kleidertauschparty über\,  auch für Nicht-Teilnehmern am Workshop. Anmeldung erforderlich!\nDoris Hofmann\nschmidt@sustainable-textile-school.com
ORGANIZER:MAILTO:anna.lanfermann@s2014.tu-chemnitz.de
UID:18744@www.tu-chemnitz.de
CREATED:20170413T112400Z
DTSTAMP:20210802T184625Z
END:VEVENT
END:VCALENDAR
