BEGIN:VCALENDAR
VERSION:2.0
PRODID:TU Chemnitz
METHOD:PUBLISH
X-WR-CALNAME:Veranstaltungen der TU Chemnitz
X-WR-TIMEZONE:Europe/Berlin
BEGIN:VEVENT
CLASS:PUBLIC
DTSTART;TZID="Europe/Berlin":20170712T080000
DTEND;TZID="Europe/Berlin":20170712T160000
LOCATION:Str. der Nationen 62\, Chemnitz (Böttcher-Bau)
SUMMARY:Ways out of Academia - Job Opportunities for Graduates (Zentrum für den wissenschaftlichen Nachwuchs)
DESCRIPTION:Participants are enabled to describe their transferable skills\, plan next steps that are relevant for their individual career development and consider relevant facts on job search etc. when planning their career.\nDr. Eva Reichmann\nAnmeldung via https://www.tu-chemnitz.de/zfwn/weiterbildungsprogramm/index.php
ORGANIZER:MAILTO:nadine.mueller@zfwn.tu-chemnitz.de
UID:18741@www.tu-chemnitz.de
CREATED:20170413T111100Z
DTSTAMP:20210802T185316Z
END:VEVENT
END:VCALENDAR
