BEGIN:VCALENDAR
VERSION:2.0
PRODID:TU Chemnitz
METHOD:PUBLISH
X-WR-CALNAME:Veranstaltungen der TU Chemnitz
X-WR-TIMEZONE:Europe/Berlin
BEGIN:VEVENT
CLASS:PUBLIC
DTSTART;TZID="Europe/Berlin":20170510T180000
DTEND;TZID="Europe/Berlin":20170510T203000
LOCATION:Das TIETZ\, Moritzstraße 20\, 4. Etage
SUMMARY:"Wunschbild Europa" (Worldcafé) (Philosophische Fakultät\, Initiative Europastudien e.V.)
DESCRIPTION:Die Europawoche der Initiative Europastudien e.V. steht unter dem Motto "Europaidentifikation und Europaverständnis". Vom 8.-11. Mai 2017 werden dazu verschiedene Veranstaltungen stattfinden.\nLandtagsabgeordnete der CDU\, der LINKEN und von Bündnis 90/Die Grünen\nAline Sophie Sieber\, aline-sophie.sieber@s2015.tu-chemnitz.de
ORGANIZER:MAILTO:ilona.scherm@phil.tu-chemnitz.de
UID:18733@www.tu-chemnitz.de
CREATED:20170412T130400Z
DTSTAMP:20210802T185007Z
END:VEVENT
END:VCALENDAR
