BEGIN:VCALENDAR
VERSION:2.0
PRODID:TU Chemnitz
METHOD:PUBLISH
X-WR-CALNAME:Veranstaltungen der TU Chemnitz
X-WR-TIMEZONE:Europe/Berlin
BEGIN:VEVENT
CLASS:PUBLIC
DTSTART;TZID="Europe/Berlin":20170517T160000
DTEND;TZID="Europe/Berlin":20170517T173000
LOCATION:Reichenhainer Str. 90\, Chemnitz (Zentr. Hörsaal- und Seminargebäude)
SUMMARY:Physikalisches Kolloquium - Bitte um Beachtung: Der Vortrag muss wegen Krankheit (Unfall) ausfallen!! (Fakultät für Naturwissenschaften\, Institut für Physik)
DESCRIPTION:Thema: "Nanodevices for Bio-inspired Computing"\nDr. Julie Grollier (CNRS/Thales Lab Paris\, Frankreich)\nProf. Dr. Olav Hellwig (Tel.: 0371 531-30521\, Email: olav.hellwig@physik.tu-chemnitz.de)
ORGANIZER:MAILTO:angelika.hiller@physik.tu-chemnitz.de
UID:18730@www.tu-chemnitz.de
CREATED:20170412T105700Z
DTSTAMP:20210802T185011Z
END:VEVENT
END:VCALENDAR
