BEGIN:VCALENDAR
VERSION:2.0
PRODID:TU Chemnitz
METHOD:PUBLISH
X-WR-CALNAME:Veranstaltungen der TU Chemnitz
X-WR-TIMEZONE:Europe/Berlin
BEGIN:VEVENT
CLASS:PUBLIC
DTSTART;TZID="Europe/Berlin":20170504T160000
DTEND;TZID="Europe/Berlin":20170504T173000
LOCATION:Reichenhainer Str. 70\, Chemnitz (Rühlmann-Bau)
SUMMARY:Chemnitzer Mathematisches Colloquium (Fakultät für Mathematik\, Professur Numerische Mathematik)
DESCRIPTION:Thema: Mathematical Analysis of Statistical Inference and Why it Matters\nProf. Dr. Tim Sullivan\, Freie Universität Berlin\nDas Kolloquium wird von Herrn Prof. Oliver Ernst geleitet.
ORGANIZER:MAILTO:margit.matt@mathematik.tu-chemnitz.de
UID:18722@www.tu-chemnitz.de
CREATED:20170406T105100Z
DTSTAMP:20210802T185014Z
END:VEVENT
END:VCALENDAR
