BEGIN:VCALENDAR
VERSION:2.0
PRODID:TU Chemnitz
METHOD:PUBLISH
X-WR-CALNAME:Veranstaltungen der TU Chemnitz
X-WR-TIMEZONE:Europe/Berlin
BEGIN:VEVENT
CLASS:PUBLIC
DTSTART;TZID="Europe/Berlin":20170519T090000
DTEND;TZID="Europe/Berlin":20170519T170000
LOCATION:Pegasus-Center\, Chemnitz
SUMMARY:Umfragen- und Landingpagegestaltung (Zentrum für Wissens- und Technologietransfer\, Gründernetzwerk SAXEED)
DESCRIPTION:Damit eine Idee zu einem erfolgreichen Produkt werden kann\, hilft es\, so früh wie möglich Feedback potenzieller Kunden zu erhalten. Eine schnelle Möglichkeit hierfür sind Onlineumfragen. Tipps zur Konzeption und Auswertung erhaltet Ihr in diesem Workshop.\nSophie Ruckau und Achim Kießig\nhttp://www-saxeed.hrz.tu-chemnitz.de/termin/umfragen-und-landingpagegestaltung
ORGANIZER:MAILTO:jessica.thieme@saxeed.net
UID:18716@www.tu-chemnitz.de
CREATED:20170405T153200Z
DTSTAMP:20210802T185007Z
END:VEVENT
END:VCALENDAR
