BEGIN:VCALENDAR
VERSION:2.0
PRODID:TU Chemnitz
METHOD:PUBLISH
X-WR-CALNAME:Veranstaltungen der TU Chemnitz
X-WR-TIMEZONE:Europe/Berlin
BEGIN:VEVENT
CLASS:PUBLIC
DTSTART;TZID="Europe/Berlin":20170419T160000
DTEND;TZID="Europe/Berlin":20170419T173000
LOCATION:Reichenhainer Str. 90\, Chemnitz (Zentr. Hörsaal- und Seminargebäude)
SUMMARY:Physikalisches Kolloquium (Fakultät für Naturwissenschaften\, Institut für Physik)
DESCRIPTION:Thema: "Exploring functionalities of single molecules on surface by scanning probe microscopy"\nDr. Pavel Jelinek (Institute of Physics of the Czech  Academy of Sciences\, Prag)\nProf. Dr. Dr. h. c. Dietrich R. T. Zahn (Tel.: 0371 531-33036\, Email: zahn@physik.tu-chemnitz.de)
ORGANIZER:MAILTO:angelika.hiller@physik.tu-chemnitz.de
UID:18703@www.tu-chemnitz.de
CREATED:20170404T152400Z
DTSTAMP:20210802T184634Z
END:VEVENT
END:VCALENDAR
