BEGIN:VCALENDAR
VERSION:2.0
PRODID:TU Chemnitz
METHOD:PUBLISH
X-WR-CALNAME:Veranstaltungen der TU Chemnitz
X-WR-TIMEZONE:Europe/Berlin
BEGIN:VEVENT
CLASS:PUBLIC
DTSTART;TZID="Europe/Berlin":20011212T171500
DTEND;TZID="Europe/Berlin":20011212T184500
LOCATION:Reichenhainer Str. 70\, Chemnitz (Zentr. Hörsaal- und Seminargebäude)
SUMMARY:Realistic Calculations of Surface Optical Properties:The Influence of Defects\, Self-energy and Excitonic Effects  (Fakultät für Naturwissenschaften\, Institut für Physik)
DESCRIPTION:Physikalisches Kolloquium\nDr. Gero Schmidt\, Universität Jena\nProf. Dr. D.R.T. Zahn\, Tel. 3036
ORGANIZER:MAILTO:sumar@hrz.tu-chemnitz.de
UID:1870@www.tu-chemnitz.de
CREATED:20011018T102600Z
DTSTAMP:20210802T202624Z
END:VEVENT
END:VCALENDAR
