BEGIN:VCALENDAR
VERSION:2.0
PRODID:TU Chemnitz
METHOD:PUBLISH
X-WR-CALNAME:Veranstaltungen der TU Chemnitz
X-WR-TIMEZONE:Europe/Berlin
BEGIN:VEVENT
CLASS:PUBLIC
DTSTART;TZID="Europe/Berlin":19981111T190000
DTEND;TZID="Europe/Berlin":19981111T203000
LOCATION:Uni-Teil 9: Wilhelm-Raabe-Str. 43\, Chemnitz
SUMMARY:Zukunftsorientierungen türkischer Jugendlicher (Philosophische Fakultät\, Fachgebiet Psychologie)
DESCRIPTION:Dipl.-Psych. Olaf Morgenroth; TU Chemnitz\nInformationen: Dipl.-Psych. Martin Baumann\, Tel.: 531-3912\, martin.baumann@phil.tu-chemnitz.de
ORGANIZER:MAILTO:cuh@hrz.tu-chemnitz.de
UID:187@www.tu-chemnitz.de
CREATED:19981105T144300Z
DTSTAMP:20210802T203547Z
END:VEVENT
END:VCALENDAR
