BEGIN:VCALENDAR
VERSION:2.0
PRODID:TU Chemnitz
METHOD:PUBLISH
X-WR-CALNAME:Veranstaltungen der TU Chemnitz
X-WR-TIMEZONE:Europe/Berlin
BEGIN:VEVENT
CLASS:PUBLIC
DTSTART;TZID="Europe/Berlin":20170627T083000
DTEND;TZID="Europe/Berlin":20170627T160000
LOCATION:Dresden
SUMMARY:Exkursion: Militärhistorisches Museum der Bundeswehr (Career Service)
DESCRIPTION:Das Karriereberatungsbüro der Bundeswehr lädt euch zu einem spannenden Tag nach Dresden ein.\nKarriereberatungsbüro der Bundeswehr\nCareer Service\, career-service@tu-chemnitz.de
ORGANIZER:MAILTO:mike.ebersbach@s2010.tu-chemnitz.de
UID:18699@www.tu-chemnitz.de
CREATED:20170403T123100Z
DTSTAMP:20210802T185144Z
END:VEVENT
END:VCALENDAR
