BEGIN:VCALENDAR
VERSION:2.0
PRODID:TU Chemnitz
METHOD:PUBLISH
X-WR-CALNAME:Veranstaltungen der TU Chemnitz
X-WR-TIMEZONE:Europe/Berlin
BEGIN:VEVENT
CLASS:PUBLIC
DTSTART;TZID="Europe/Berlin":20170620T133000
DTEND;TZID="Europe/Berlin":20170620T173000
LOCATION:
SUMMARY:Journalismus Basics (Career Service)
DESCRIPTION:Etwas mit Medien wollen viele junge Leute machen. Aber wie genau sieht der berufliche Alltag von Journalisten aus? Was ist der Unterschied zwischen Journalismus und PR? Die Grenzen zwischen den Formaten verschwimmen\, klare Rollen gibt es nicht mehr.\nDana Ritzmann\nCareer Service\, career-service@tu-chemnitz.de
ORGANIZER:MAILTO:mike.ebersbach@s2010.tu-chemnitz.de
UID:18694@www.tu-chemnitz.de
CREATED:20170403T122200Z
DTSTAMP:20210802T185147Z
END:VEVENT
END:VCALENDAR
