BEGIN:VCALENDAR
VERSION:2.0
PRODID:TU Chemnitz
METHOD:PUBLISH
X-WR-CALNAME:Veranstaltungen der TU Chemnitz
X-WR-TIMEZONE:Europe/Berlin
BEGIN:VEVENT
CLASS:PUBLIC
DTSTART;TZID="Europe/Berlin":20170509T134500
DTEND;TZID="Europe/Berlin":20170509T151500
LOCATION:Pegasus-Center\, Chemnitz
SUMMARY:Stepstone Deutschland GmbH: Absolventengehälter im Überblick (Career Service)
DESCRIPTION:Anhand der Ergebnisse der aktuellen StepStone Gehaltsstudie zeigt Felix Goymann von StepStone\, welche Gehälter Berufseinsteigern in Deutschland gezahlt werden und was im Gehaltsgespräch beachtet werden sollte.\nStepstone Deutschland GmbH\nCareer Service\, career-service@tu-chemnitz.de
ORGANIZER:MAILTO:mike.ebersbach@s2010.tu-chemnitz.de
UID:18685@www.tu-chemnitz.de
CREATED:20170403T115000Z
DTSTAMP:20210802T185011Z
END:VEVENT
END:VCALENDAR
