BEGIN:VCALENDAR
VERSION:2.0
PRODID:TU Chemnitz
METHOD:PUBLISH
X-WR-CALNAME:Veranstaltungen der TU Chemnitz
X-WR-TIMEZONE:Europe/Berlin
BEGIN:VEVENT
CLASS:PUBLIC
DTSTART;TZID="Europe/Berlin":20170530T134500
DTEND;TZID="Europe/Berlin":20170530T174500
LOCATION:Pegasus-Center\, Chemnitz
SUMMARY:MLP AG: Gehaltsverhandlung - Wie erreiche ich mein Wunschgehalt? (Career Service)
DESCRIPTION:Jeder sollte verdienen\, was er wert ist. Es erfordert einiges an Übung\, Werbung in eigener Sache zu betreiben\, sich optimal auf das Gehaltsgespräch vorzubereiten und dieses selbstbewusst durchzuführen.\nRoman Odinzov (Financial Consultant & Karrierecoach\, MLP AG)\nCareer Service\, career-service@tu-chemnitz.de
ORGANIZER:MAILTO:mike.ebersbach@s2010.tu-chemnitz.de
UID:18684@www.tu-chemnitz.de
CREATED:20170403T114800Z
DTSTAMP:20210802T185013Z
END:VEVENT
END:VCALENDAR
