BEGIN:VCALENDAR
VERSION:2.0
PRODID:TU Chemnitz
METHOD:PUBLISH
X-WR-CALNAME:Veranstaltungen der TU Chemnitz
X-WR-TIMEZONE:Europe/Berlin
BEGIN:VEVENT
CLASS:PUBLIC
DTSTART;TZID="Europe/Berlin":20011030T173000
DTEND;TZID="Europe/Berlin":20011030T190000
LOCATION:Str. der Nationen 62\, Chemnitz (Böttcher-Bau)
SUMMARY:UNIX-Stammtisch in Sachsen (Universitätsrechenzentrum)
DESCRIPTION:Thema: <B>Windows übers Netz?</B>\nEine Terminalserverlösung.
ORGANIZER:MAILTO:imu@hrz.tu-chemnitz.de
UID:1868@www.tu-chemnitz.de
CREATED:20011017T134200Z
DTSTAMP:20210802T202704Z
END:VEVENT
END:VCALENDAR
