BEGIN:VCALENDAR
VERSION:2.0
PRODID:TU Chemnitz
METHOD:PUBLISH
X-WR-CALNAME:Veranstaltungen der TU Chemnitz
X-WR-TIMEZONE:Europe/Berlin
BEGIN:VEVENT
CLASS:PUBLIC
DTSTART;TZID="Europe/Berlin":20011113T190000
DTEND;TZID="Europe/Berlin":20011114T030000
LOCATION:Reichenhainer Str. 55\, Chemnitz (Mensa)
SUMMARY:Radio Opening Party *** Radio Opening Party  (UNICC - Das Uniradio an der TU Chemnitz)
DESCRIPTION:Karten ab 22.10. (Mensafoyer)- Studis 7 DM/andere 10 DM - China Lopez(Köln)-Phonophobie(Berlin)- The High Kites-Subculture in the fridge-Viva - DJ Ron(Phlatline)- DJ Angel Dust(Dead Metropolis)- DJ ULF \n  Vorverkauf für Mensafasching (16./17.11.): 21-23h\nhttp://www-user.tu-chemnitz.de/~jseb/infoseite13_11/
ORGANIZER:MAILTO:wko@hrz.tu-chemnitz.de
UID:1867@www.tu-chemnitz.de
CREATED:20011016T234000Z
DTSTAMP:20210802T202642Z
END:VEVENT
END:VCALENDAR
