BEGIN:VCALENDAR
VERSION:2.0
PRODID:TU Chemnitz
METHOD:PUBLISH
X-WR-CALNAME:Veranstaltungen der TU Chemnitz
X-WR-TIMEZONE:Europe/Berlin
BEGIN:VEVENT
CLASS:PUBLIC
DTSTART;TZID="Europe/Berlin":20170504T090000
DTEND;TZID="Europe/Berlin":20170504T120000
LOCATION:Str. der Nationen 62\, Chemnitz (Böttcher-Bau)
SUMMARY:Origin-Workshop (Universitätsrechenzentrum)
DESCRIPTION:Vorstellung neuer Funktionen in Origin 2017\, Hands-On-Workshop: Die Origin-Layertechnik und klonbare Grafiktemplates\, Hands-On-Workshop: Analyse-Templates und die Erstellung von automatischen Reports\nDr. Kai Gansel\, ADDITIVE Soft- und Hardware für Technik und Wissenschaft GmbH\nAnmeldung über OPAL: https://mytuc.org/tbsg
ORGANIZER:MAILTO:antje.schreiber@hrz.tu-chemnitz.de
UID:18662@www.tu-chemnitz.de
CREATED:20170328T102700Z
DTSTAMP:20210802T185008Z
END:VEVENT
END:VCALENDAR
