BEGIN:VCALENDAR
VERSION:2.0
PRODID:TU Chemnitz
METHOD:PUBLISH
X-WR-CALNAME:Veranstaltungen der TU Chemnitz
X-WR-TIMEZONE:Europe/Berlin
BEGIN:VEVENT
CLASS:PUBLIC
DTSTART;TZID="Europe/Berlin":20170406T210000
DTEND;TZID="Europe/Berlin":20170406T230000
LOCATION:Filmclub "mittendrin"\, Reichenhainer Str. 35/37\, Keller
SUMMARY:Kino: ARRIVAL ("mittendrin" - das campuskino)
DESCRIPTION:Siebenfüßige Außerirdische landen an 12 versch. Orten auf der Erde. Doch wie kommuniziert man? Schon bald geht es um nicht weniger als den Fortbestand der Menschheit... \n„Ein Meisterwerk – ‚Arrival‘ ist der beste Science-Fiction-Film seit langem.“ (BZ)\nfilmclub@tu-chemnitz.de
ORGANIZER:MAILTO:christina.axt@s2010.tu-chemnitz.de
UID:18638@www.tu-chemnitz.de
CREATED:20170320T152300Z
DTSTAMP:20210802T184627Z
END:VEVENT
END:VCALENDAR
