BEGIN:VCALENDAR
VERSION:2.0
PRODID:TU Chemnitz
METHOD:PUBLISH
X-WR-CALNAME:Veranstaltungen der TU Chemnitz
X-WR-TIMEZONE:Europe/Berlin
BEGIN:VEVENT
CLASS:PUBLIC
DTSTART;TZID="Europe/Berlin":20170404T210000
DTEND;TZID="Europe/Berlin":20170404T230000
LOCATION:Filmclub "mittendrin"\, Reichenhainer Str. 35/37\, Keller
SUMMARY:Kino: SWISS ARMY MAN (OmU) ("mittendrin" - das campuskino)
DESCRIPTION:Ein Debüt\, das allen Furor wert ist. Dies ist der Film mit Harry Potter als furzender Leiche. "Swiss Army Man" ist trotz aller Flatulenzen eines der größeren Kinowunder der letzten Zeit. (sueddeutsche.de)\n>> Engl. Originalfassung (+ dt. Untertiteln)!\nfilmclub@tu-chemnitz.de
ORGANIZER:MAILTO:christina.axt@s2010.tu-chemnitz.de
UID:18635@www.tu-chemnitz.de
CREATED:20170320T151800Z
DTSTAMP:20210802T184630Z
END:VEVENT
END:VCALENDAR
