BEGIN:VCALENDAR
VERSION:2.0
PRODID:TU Chemnitz
METHOD:PUBLISH
X-WR-CALNAME:Veranstaltungen der TU Chemnitz
X-WR-TIMEZONE:Europe/Berlin
BEGIN:VEVENT
CLASS:PUBLIC
DTSTART;TZID="Europe/Berlin":20170317T130000
DTEND;TZID="Europe/Berlin":20170331T190000
LOCATION:Pegasus-Center\, Chemnitz
SUMMARY:SAXEED Winter School "Fit für die Unternehmensnachfolge" (Zentrum für Wissens- und Technologietransfer\, Gründernetzwerk SAXEED)
DESCRIPTION:In der Winter School erfahren Sie\, wie man eine Unternehmensnachfolge angehen und meistern kann. Sie lernen erfolgreiche Nachfolger kennen und knüpfen Kontakte zu Experten.\nJette Petzold\nJette Petzold\, jette.petzold@saxeed.de\, 0371/531-19994
ORGANIZER:MAILTO:jette.petzold@wirtschaft.tu-chemnitz.de
UID:18625@www.tu-chemnitz.de
CREATED:20170313T112100Z
DTSTAMP:20210802T184301Z
END:VEVENT
END:VCALENDAR
