BEGIN:VCALENDAR
VERSION:2.0
PRODID:TU Chemnitz
METHOD:PUBLISH
X-WR-CALNAME:Veranstaltungen der TU Chemnitz
X-WR-TIMEZONE:Europe/Berlin
BEGIN:VEVENT
CLASS:PUBLIC
DTSTART;TZID="Europe/Berlin":20170327T140000
DTEND;TZID="Europe/Berlin":20170327T160000
LOCATION: CampusBibliothek II\, Reichenhainer Straße 39\, 4. OG\, Raum 433
SUMMARY:Fachspezifische Sprechstunde in der Universitätsbibliothek - Mathematik\, Physik\, Elektrotechnik\, Informationstechnik (Universitätsbibliothek)
DESCRIPTION:Wie bekomme ich schnell und effizient wissenschaftliche Literaturstellen zu meinem Thema. Kommen Sie einfach vorbei - unsere Fachexpertin hilft Ihnen gern.\nAnnemarie Kalugin\n Annemarie Kalugin\, Tel. 531 31324 annemarie.kalugin@bibliothek.tu-chemnitz.de
ORGANIZER:MAILTO:annemarie.kalugin@bibliothek.tu-chemnitz.de
UID:18622@www.tu-chemnitz.de
CREATED:20170313T084800Z
DTSTAMP:20210802T184308Z
END:VEVENT
END:VCALENDAR
