BEGIN:VCALENDAR
VERSION:2.0
PRODID:TU Chemnitz
METHOD:PUBLISH
X-WR-CALNAME:Veranstaltungen der TU Chemnitz
X-WR-TIMEZONE:Europe/Berlin
BEGIN:VEVENT
CLASS:PUBLIC
DTSTART;TZID="Europe/Berlin":20170216T210000
DTEND;TZID="Europe/Berlin":20170216T230000
LOCATION:Filmclub "mittendrin"\, Reichenhainer Str. 35/37\, Keller
SUMMARY:Kino: SAUSAGE PARTY (OmdU) ("mittendrin" - das campuskino)
DESCRIPTION:Sowas passiert\, wenn Seth Rogen & Jonah Hill mit Essen spielen. Ein Animationsfilm – definitiv NICHT für die ganze Familie. Ja\, der Humor ist derbe Kost\, aber auch streckenweise hintersinnig\, politisch…\nSinnvollerweise: Originalfassung + dt. Untertiteln!\nfilmclub@tu-chemnitz.de
ORGANIZER:MAILTO:christina.axt@s2010.tu-chemnitz.de
UID:18552@www.tu-chemnitz.de
CREATED:20170131T003300Z
DTSTAMP:20210802T183856Z
END:VEVENT
END:VCALENDAR
