BEGIN:VCALENDAR
VERSION:2.0
PRODID:TU Chemnitz
METHOD:PUBLISH
X-WR-CALNAME:Veranstaltungen der TU Chemnitz
X-WR-TIMEZONE:Europe/Berlin
BEGIN:VEVENT
CLASS:PUBLIC
DTSTART;TZID="Europe/Berlin":20011106T173000
DTEND;TZID="Europe/Berlin":20011106T190000
LOCATION:Hotel Sächsischer Hof\, Brühl 26\, 09111 Chemnitz
SUMMARY:55. Mikroelektronik-Stammtisch: "Neuronale Netze in der Medizin" (Fakultät für Elektrotechnik und Informationstechnik\, Schaltungs- und Systementwurf / AMEC)
DESCRIPTION:Teilnahme kostenlos\nPD Dr. med. E. Patitz\, Medizinische Akademie Dresden\nProf. D. Mueller\, 0371/531 3195\, dietmar.mueller@infotech.tu-chemnitz.de
ORGANIZER:MAILTO:pejan@hrz.tu-chemnitz.de
UID:1855@www.tu-chemnitz.de
CREATED:20011010T142200Z
DTSTAMP:20210802T202643Z
END:VEVENT
END:VCALENDAR
