BEGIN:VCALENDAR
VERSION:2.0
PRODID:TU Chemnitz
METHOD:PUBLISH
X-WR-CALNAME:Veranstaltungen der TU Chemnitz
X-WR-TIMEZONE:Europe/Berlin
BEGIN:VEVENT
CLASS:PUBLIC
DTSTART;TZID="Europe/Berlin":20011120T163000
DTEND;TZID="Europe/Berlin":20011120T163000
LOCATION:IOB Industrieofenbau Aue GmbH\, Bahnhofstraße 43 in Aue
SUMMARY:Unternehmensvorstellung IOB Aue und Vortrag "Moderne Anlagentechnik für die Wärmebehandlung in Salzbädern" (Fakultät für Maschinenbau und Verfahrenstechnik\, Arbeitskreis Wärmebehandlung und Werkstofftechnik der AWT und des VDI-W Chemnitz/Freiberg\, Bereich Chemnitz)
DESCRIPTION:Dipl.-Ing. Harald Strauß\, Houghton Durferrit GmbH Hanau\nDipl.-Ing. Ulrich Thieme\, Tel. 3 36 32 22
ORGANIZER:MAILTO:iroe@hrz.tu-chemnitz.de
UID:1854@www.tu-chemnitz.de
CREATED:20011010T140800Z
DTSTAMP:20210802T202646Z
END:VEVENT
END:VCALENDAR
