BEGIN:VCALENDAR
VERSION:2.0
PRODID:TU Chemnitz
METHOD:PUBLISH
X-WR-CALNAME:Veranstaltungen der TU Chemnitz
X-WR-TIMEZONE:Europe/Berlin
BEGIN:VEVENT
CLASS:PUBLIC
DTSTART;VALUE=DATE:20170213
DTEND;VALUE=DATE:20170217
LOCATION:Str. der Nationen 62\, Chemnitz (Böttcher-Bau)
SUMMARY:RoboSchool (Fakultät für Informatik)
DESCRIPTION:Ein Studium in Informatik\, Naturwissenschaften und Technik bietet eine sichere Zukunftsperspektive. Die RoboSchool gibt Schülern die Chance\, sich einen Überblick über ihre Interessen und Fähigkeiten im Bereich Informatik und Technik zu verschaffen.\nMaja Riedel\nDer Workshop ist bereits voll.
ORGANIZER:MAILTO:maja.riedel@verwaltung.tu-chemnitz.de
UID:18523@www.tu-chemnitz.de
CREATED:20170119T124700Z
DTSTAMP:20210802T183848Z
END:VEVENT
END:VCALENDAR
