BEGIN:VCALENDAR
VERSION:2.0
PRODID:TU Chemnitz
METHOD:PUBLISH
X-WR-CALNAME:Veranstaltungen der TU Chemnitz
X-WR-TIMEZONE:Europe/Berlin
BEGIN:VEVENT
CLASS:PUBLIC
DTSTART;TZID="Europe/Berlin":20170119T190000
DTEND;TZID="Europe/Berlin":20170119T210000
LOCATION:Reichenhainer Str. 70\, Chemnitz (Rühlmann-Bau)
SUMMARY:Ökosoziale Ringvorlesung: Kaffee ohne bitteren Beigeschmack (Studentenrat\, NATUC\, Referat für Ökologie und Nachhaltigkeit)
DESCRIPTION:Er ist Treibstoff für viel und beschert im Jahr Steuereinnahmen von mehr als einer Mrd Euro. Kaffee hat als wichtigstes Exportgut nach Erdöl auch im globalen Handel eine enorme Bedeutung und bestimmt das Leben von rund 25 Mio Kleinbauern weltweit.\nJens Klein\noekologie@stura.tu-chemnitz.de
ORGANIZER:MAILTO:oekologie@stura.tu-chemnitz.de
UID:18502@www.tu-chemnitz.de
CREATED:20170107T141800Z
DTSTAMP:20210802T183434Z
END:VEVENT
END:VCALENDAR
