BEGIN:VCALENDAR
VERSION:2.0
PRODID:TU Chemnitz
METHOD:PUBLISH
X-WR-CALNAME:Veranstaltungen der TU Chemnitz
X-WR-TIMEZONE:Europe/Berlin
BEGIN:VEVENT
CLASS:PUBLIC
DTSTART;TZID="Europe/Berlin":20170202T110000
DTEND;TZID="Europe/Berlin":20170202T130000
LOCATION:Str. der Nationen 62\, Chemnitz (Böttcher-Bau)
SUMMARY:Informatik-Kolloquium (Fakultät für Informatik\, Professur Datenverwaltungssysteme)
DESCRIPTION:Öffentliche Verteidigung im Rahmen des Promotionsverfahrens zum Thema: "Identifikation relevanter Kriterien zur Evaluierung der Praxistauglichkeit von Technologieansätzen im Cloud Computing Umfeld mit dem Fokus auf Datenschutz und Datensicherheit"\nM. Sc. Paul Reinhold\ndekanat@informatik.tu-chemnitz.de
ORGANIZER:MAILTO:heike.lasch@informatik.tu-chemnitz.de
UID:18468@www.tu-chemnitz.de
CREATED:20161220T110800Z
DTSTAMP:20210802T183857Z
END:VEVENT
END:VCALENDAR
