BEGIN:VCALENDAR
VERSION:2.0
PRODID:TU Chemnitz
METHOD:PUBLISH
X-WR-CALNAME:Veranstaltungen der TU Chemnitz
X-WR-TIMEZONE:Europe/Berlin
BEGIN:VEVENT
CLASS:PUBLIC
DTSTART;TZID="Europe/Berlin":20020115T153000
DTEND;TZID="Europe/Berlin":20020115T170000
LOCATION:Reichenhainer Str. 70\, Chemnitz (Zentr. Hörsaal- und Seminargebäude)
SUMMARY:Seniorenkolleg: "Thermoplaste\, Duroplaste\, Elaste - für Kunststoffe gibt es keinen Ersatz" (Philosophische Fakultät\, Gesellschaft der Freunde der TU Chemnitz e.V.)
DESCRIPTION:Prof. Dr. Frank Meyer\, TU Chemnitz\ndienstags von 10.00 bis 14.30 Uhr\, Reichenhainer Straße 70\, Raum 18\, Tel. 531-2075
ORGANIZER:MAILTO:iroe@hrz.tu-chemnitz.de
UID:1844@www.tu-chemnitz.de
CREATED:20011010T120800Z
DTSTAMP:20210802T202612Z
END:VEVENT
END:VCALENDAR
