BEGIN:VCALENDAR
VERSION:2.0
PRODID:TU Chemnitz
METHOD:PUBLISH
X-WR-CALNAME:Veranstaltungen der TU Chemnitz
X-WR-TIMEZONE:Europe/Berlin
BEGIN:VEVENT
CLASS:PUBLIC
DTSTART;TZID="Europe/Berlin":20161208T210000
DTEND;TZID="Europe/Berlin":20161208T230000
LOCATION:Filmclub "mittendrin"\, Reichenhainer Str. 35/37\, Keller
SUMMARY:Kino: ATTACK ON TITAN (Part 1) ("mittendrin" - das campuskino)
DESCRIPTION:Die langersehnte Realverfilmung zum Kult-Anime\, zum erfolreichsten Manga der letzten Jahre. Seid dabei beim Überlebenskampf der Menschheit - nachdem ein riesiger Titan ein Loch in die Mauer reißt und das Grauen zurück in die Mitte der Menschen bringt...\nfilmclub@tu-chemnitz.de
ORGANIZER:MAILTO:christina.axt@s2010.tu-chemnitz.de
UID:18431@www.tu-chemnitz.de
CREATED:20161204T013800Z
DTSTAMP:20210802T175933Z
END:VEVENT
END:VCALENDAR
