BEGIN:VCALENDAR
VERSION:2.0
PRODID:TU Chemnitz
METHOD:PUBLISH
X-WR-CALNAME:Veranstaltungen der TU Chemnitz
X-WR-TIMEZONE:Europe/Berlin
BEGIN:VEVENT
CLASS:PUBLIC
DTSTART;TZID="Europe/Berlin":20170131T160000
DTEND;TZID="Europe/Berlin":20170131T173000
LOCATION:Reichenhainer Str. 90\, Chemnitz (Zentr. Hörsaal- und Seminargebäude)
SUMMARY:Kunststofftechnisches Kolloquium (TU Chemnitz\, Professur Kunststoffe\, Professur Fördertechnik)
DESCRIPTION:Vortrag zum Thema "Wärmebehandlung von Kunststoffen mittels Infrarotstrahlung"\nHerr Gerhardt Wendt\, Heraeus Noblelight GmbH\nÖffentliche Veranstaltung
ORGANIZER:MAILTO:marios.constantinou@mb.tu-chemnitz.de
UID:18427@www.tu-chemnitz.de
CREATED:20161201T134300Z
DTSTAMP:20210802T183440Z
END:VEVENT
END:VCALENDAR
