BEGIN:VCALENDAR
VERSION:2.0
PRODID:TU Chemnitz
METHOD:PUBLISH
X-WR-CALNAME:Veranstaltungen der TU Chemnitz
X-WR-TIMEZONE:Europe/Berlin
BEGIN:VEVENT
CLASS:PUBLIC
DTSTART;TZID="Europe/Berlin":20161128T133000
DTEND;TZID="Europe/Berlin":20161128T180000
LOCATION:Reichenhainer Str. 90\, Chemnitz (Zentr. Hörsaal- und Seminargebäude)
SUMMARY:Zeitmnagement (Lernkultur (Initiative der TUC))
DESCRIPTION:Workshop zum Thema Zeitmanagemt. Geeignet für alle Studenten / Mitarbeiter der TU\, insb. Erstsemester.\nThomas Ritschel\nkurse@lernkultur.de
ORGANIZER:MAILTO:yvonne.lehmann@s2014.tu-chemnitz.de
UID:18393@www.tu-chemnitz.de
CREATED:20161121T235300Z
DTSTAMP:20210801T215639Z
END:VEVENT
END:VCALENDAR
