BEGIN:VCALENDAR
VERSION:2.0
PRODID:TU Chemnitz
METHOD:PUBLISH
X-WR-CALNAME:Veranstaltungen der TU Chemnitz
X-WR-TIMEZONE:Europe/Berlin
BEGIN:VEVENT
CLASS:PUBLIC
DTSTART;TZID="Europe/Berlin":20161130T171500
DTEND;TZID="Europe/Berlin":20161130T191500
LOCATION:Reichenhainer Str. 70\, Chemnitz (Weinhold-Bau)
SUMMARY:MINT-Studentinnenstammtisch | Studies meet practice - Forschung hautnah erleben (Zentrum für Chancengleicheit in Wissenschaft und Forschung)
DESCRIPTION:Sie erhalten einen umfassenden Einblick in das im Bereich der Nanoelektronik angesiedelte Exzellenzcluster "cFAED“ und erleben anschließend eine exklusive Führung durch den Reinraum des Zentrums für Mikrotechnologien (ZfM) am Campus.\nNicole Dietrich\, 531-36625\, nicole.dietrich@hrz.tu-chemnitz.de
ORGANIZER:MAILTO:nicole.dietrich@hrz.tu-chemnitz.de
UID:18381@www.tu-chemnitz.de
CREATED:20161117T113900Z
DTSTAMP:20210801T215639Z
END:VEVENT
END:VCALENDAR
