BEGIN:VCALENDAR
VERSION:2.0
PRODID:TU Chemnitz
METHOD:PUBLISH
X-WR-CALNAME:Veranstaltungen der TU Chemnitz
X-WR-TIMEZONE:Europe/Berlin
BEGIN:VEVENT
CLASS:PUBLIC
DTSTART;TZID="Europe/Berlin":20161130T091500
DTEND;TZID="Europe/Berlin":20161130T104500
LOCATION:Reichenhainer Str. 90\, Chemnitz (Zentr. Hörsaal- und Seminargebäude)
SUMMARY:Personalversammlung 2016 (TU Chemnitz\, Personalrat)
DESCRIPTION:Schwerpunkt: Hochschulentwicklungsplanung und Personalentwicklungskonzept - Wie geht es weiter an unserer Universität?\nPersonalrat\npersonalrat@tu-chemnitz.de
ORGANIZER:MAILTO:feige@physik.tu-chemnitz.de
UID:18376@www.tu-chemnitz.de
CREATED:20161114T144900Z
DTSTAMP:20210801T215640Z
END:VEVENT
END:VCALENDAR
