BEGIN:VCALENDAR
VERSION:2.0
PRODID:TU Chemnitz
METHOD:PUBLISH
X-WR-CALNAME:Veranstaltungen der TU Chemnitz
X-WR-TIMEZONE:Europe/Berlin
BEGIN:VEVENT
CLASS:PUBLIC
DTSTART;TZID="Europe/Berlin":20161115T210000
DTEND;TZID="Europe/Berlin":20161115T230000
LOCATION:Filmclub "mittendrin"\, Reichenhainer Str. 35/37\, Keller
SUMMARY:Kino: KILL BILLY ("mittendrin" - das campuskino)
DESCRIPTION:Ein Norweger hat einen Film über Ikea gedreht. Darin ruiniert der Konzern einen Möbelhändler. Der sinnt auf Rache und entführt Ingvar Kamprad...\nSkandinavier haben einfach ein Händchen für skurrile Figuren - und vor allem zarten\, bisweilen bösen Humor.\nfilmclub@tu-chemnitz.de
ORGANIZER:MAILTO:christina.axt@s2010.tu-chemnitz.de
UID:18369@www.tu-chemnitz.de
CREATED:20161113T225600Z
DTSTAMP:20210801T215735Z
END:VEVENT
END:VCALENDAR
