BEGIN:VCALENDAR
VERSION:2.0
PRODID:TU Chemnitz
METHOD:PUBLISH
X-WR-CALNAME:Veranstaltungen der TU Chemnitz
X-WR-TIMEZONE:Europe/Berlin
BEGIN:VEVENT
CLASS:PUBLIC
DTSTART;VALUE=DATE:20161208
DTEND;VALUE=DATE:20161209
LOCATION:Reichenhainer Str. 90\, Chemnitz (Zentr. Hörsaal- und Seminargebäude)
SUMMARY:Sächsischer Geometrietag 2016 (Fakultät für Mathematik)
DESCRIPTION:Die beiden Hauptredner sind Bernd Sturmfels (Berkeley/California\, USA) und Thomas Reichelt (Heidelberg).\ngeometrie@mathematik.tu-chemnitz.de
ORGANIZER:MAILTO:margit.matt@mathematik.tu-chemnitz.de
UID:18368@www.tu-chemnitz.de
CREATED:20161111T143100Z
DTSTAMP:20210802T175935Z
END:VEVENT
END:VCALENDAR
