BEGIN:VCALENDAR
VERSION:2.0
PRODID:TU Chemnitz
METHOD:PUBLISH
X-WR-CALNAME:Veranstaltungen der TU Chemnitz
X-WR-TIMEZONE:Europe/Berlin
BEGIN:VEVENT
CLASS:PUBLIC
DTSTART;TZID="Europe/Berlin":20161208T163000
DTEND;TZID="Europe/Berlin":20161208T180000
LOCATION:Reichenhainer Str. 90\, Chemnitz (Zentr. Hörsaal- und Seminargebäude)
SUMMARY:Weihnachtsvorlesung (Fakultät für Mathematik)
DESCRIPTION:Im Wichtel-Parlament - Politische Machtspiele aus mathematischer Sicht\nProf. Dr. Vladimir Shikhman\nAlle Interessierten sind herzlich eingeladen.
ORGANIZER:MAILTO:margit.matt@mathematik.tu-chemnitz.de
UID:18365@www.tu-chemnitz.de
CREATED:20161111T095600Z
DTSTAMP:20210802T175940Z
END:VEVENT
END:VCALENDAR
