BEGIN:VCALENDAR
VERSION:2.0
PRODID:TU Chemnitz
METHOD:PUBLISH
X-WR-CALNAME:Veranstaltungen der TU Chemnitz
X-WR-TIMEZONE:Europe/Berlin
BEGIN:VEVENT
CLASS:PUBLIC
DTSTART;TZID="Europe/Berlin":20161123T160000
DTEND;TZID="Europe/Berlin":20161123T173000
LOCATION:Reichenhainer Str. 90\, Chemnitz (Zentr. Hörsaal- und Seminargebäude)
SUMMARY:Physikalisches Kolloquium (Fakultät für Naturwissenschaften\, Institut für Physik)
DESCRIPTION:Thema: "Topological phases in spin-orbit coupled systems and their manipulation"\nProf. Dr. Oliver Rader (Helmholtz-Zentrum Berlin\, Abt. für Magnetisierungsdynamik)\nProf. Dr. Sibylle Gemming (Tel.: 0351 260-2470); Prof. Dr. Olav  Hellwig (Tel.: 0351 260-2470)
ORGANIZER:MAILTO:angelika.hiller@physik.tu-chemnitz.de
UID:18350@www.tu-chemnitz.de
CREATED:20161109T111700Z
DTSTAMP:20210801T215719Z
END:VEVENT
END:VCALENDAR
