BEGIN:VCALENDAR
VERSION:2.0
PRODID:TU Chemnitz
METHOD:PUBLISH
X-WR-CALNAME:Veranstaltungen der TU Chemnitz
X-WR-TIMEZONE:Europe/Berlin
BEGIN:VEVENT
CLASS:PUBLIC
DTSTART;TZID="Europe/Berlin":20161108T180000
DTEND;TZID="Europe/Berlin":20161109T020000
LOCATION:Reichenhainer Str. 90\, Chemnitz (Zentr. Hörsaal- und Seminargebäude)
SUMMARY:Election Night 2016 (Philosophische Fakultät\, Professur Europäische Regierungssysteme im Vergleich)
DESCRIPTION:An der TU Chemnitz wird am 8. November 2016 die Nacht der US-amerikanischen Präsidentschaftswahl mit Fachvorträgen\, Podiumsdiskussion\, Live Stream sowie Quiz und amerikanischem Buffet gestaltet.\nWeitere Informationen erteilt Frau Wagner: E-Mail gabriele.wagner@phil.tu-chemnitz.de
ORGANIZER:MAILTO:christoph.john@phil.tu-chemnitz.de
UID:18336@www.tu-chemnitz.de
CREATED:20161104T113800Z
DTSTAMP:20210801T215726Z
END:VEVENT
END:VCALENDAR
