BEGIN:VCALENDAR
VERSION:2.0
PRODID:TU Chemnitz
METHOD:PUBLISH
X-WR-CALNAME:Veranstaltungen der TU Chemnitz
X-WR-TIMEZONE:Europe/Berlin
BEGIN:VEVENT
CLASS:PUBLIC
DTSTART;TZID="Europe/Berlin":20161211T150000
DTEND;TZID="Europe/Berlin":20161211T160000
LOCATION:Neue Sächsische Galereie im Tietz\, Moritzstraße 20
SUMMARY:... und Gottes Friede lag im Wald. Weihnachten 1916 (Philosophische Fakultät\, Romanische Kulturwissenschaft)
DESCRIPTION:CollageKonzert\nKeine Anmeldung erforderlich
ORGANIZER:MAILTO:uwe.rabe@phil.tu-chemnitz.de
UID:18325@www.tu-chemnitz.de
CREATED:20161027T152100Z
DTSTAMP:20210802T175955Z
END:VEVENT
END:VCALENDAR
