BEGIN:VCALENDAR
VERSION:2.0
PRODID:TU Chemnitz
METHOD:PUBLISH
X-WR-CALNAME:Veranstaltungen der TU Chemnitz
X-WR-TIMEZONE:Europe/Berlin
BEGIN:VEVENT
CLASS:PUBLIC
DTSTART;TZID="Europe/Berlin":20161206T173000
DTEND;TZID="Europe/Berlin":20161206T190000
LOCATION:Reichenhainer Str. 90\, Chemnitz (Zentr. Hörsaal- und Seminargebäude)
SUMMARY:Prof. Dr. Karl Georg Zinn im Forschungsseminar (Fakultät für Wirtschaftswissenschaften\, Finanzwissenschaft)
DESCRIPTION:Thema "Ungleichheitsdynamik – Entstehung und Reproduktion einer zivilisationsgeschichtlichen Konstanten"\nProf. Dr. Karl Georg Zinn\nDie Teilnahme ist für alle Interessierten kostenlos.
ORGANIZER:MAILTO:veronika.zschornack@s2014.tu-chemnitz.de
UID:18319@www.tu-chemnitz.de
CREATED:20161026T145300Z
DTSTAMP:20210802T180005Z
END:VEVENT
END:VCALENDAR
