BEGIN:VCALENDAR
VERSION:2.0
PRODID:TU Chemnitz
METHOD:PUBLISH
X-WR-CALNAME:Veranstaltungen der TU Chemnitz
X-WR-TIMEZONE:Europe/Berlin
BEGIN:VEVENT
CLASS:PUBLIC
DTSTART;TZID="Europe/Berlin":20161103T190000
DTEND;TZID="Europe/Berlin":20161103T210000
LOCATION:Reichenhainer Str. 70\, Chemnitz (Rühlmann-Bau)
SUMMARY:Ökosoziale Ringvorlesung: Grenzenlose Konzernmacht? Die Folgen des Freihandelsabkommens CETA von Dominik Piétron (attac D) (Studentenrat\, Natuc)
DESCRIPTION:Im Vortrag werden die wichtigsten Argumente für und gegen CETA vorgestellt und abgewogen werden. Es soll außerdem herausgestellt werden\, wie sich CETA bis auf die kommunale Ebene auswirkt und unser alltägliches Zusammenleben beeinflussen könnte.\nDominik Piétron (attac Deutschland)\nKeine Anmeldung notwendig.
ORGANIZER:MAILTO:janine.rumrich@s2013.tu-chemnitz.de
UID:18308@www.tu-chemnitz.de
CREATED:20161023T105100Z
DTSTAMP:20210801T215642Z
END:VEVENT
END:VCALENDAR
