BEGIN:VCALENDAR
VERSION:2.0
PRODID:TU Chemnitz
METHOD:PUBLISH
X-WR-CALNAME:Veranstaltungen der TU Chemnitz
X-WR-TIMEZONE:Europe/Berlin
BEGIN:VEVENT
CLASS:PUBLIC
DTSTART;TZID="Europe/Berlin":20161103T160000
DTEND;TZID="Europe/Berlin":20161103T173000
LOCATION:Reichenhainer Str. 70\, Chemnitz (Rühlmann-Bau)
SUMMARY:Chemnitzer Mathematisches Colloquium (Fakultät für Mathematik\, Juniorprofessur Theoretische Mathematik)
DESCRIPTION:Thema: Configurations of lines and interesting algebraic surfaces\nProf. Fabrizio Catanese\, Universität Bayreuth\nDas Kolloquium wird von Herrn JProf. Christian Lehn geleitet.
ORGANIZER:MAILTO:margit.matt@mathematik.tu-chemnitz.de
UID:18279@www.tu-chemnitz.de
CREATED:20161012T073200Z
DTSTAMP:20210801T215730Z
END:VEVENT
END:VCALENDAR
